BEGIN:VCALENDAR
VERSION:2.0
PRODID:-//The Greater Westhampton Historical Museum - ECPv6.15.20//NONSGML v1.0//EN
CALSCALE:GREGORIAN
METHOD:PUBLISH
X-WR-CALNAME:The Greater Westhampton Historical Museum
X-ORIGINAL-URL:https://whbhistorical.org
X-WR-CALDESC:Events for The Greater Westhampton Historical Museum
REFRESH-INTERVAL;VALUE=DURATION:PT1H
X-Robots-Tag:noindex
X-PUBLISHED-TTL:PT1H
BEGIN:VTIMEZONE
TZID:America/New_York
BEGIN:DAYLIGHT
TZOFFSETFROM:-0500
TZOFFSETTO:-0400
TZNAME:EDT
DTSTART:20250309T070000
END:DAYLIGHT
BEGIN:STANDARD
TZOFFSETFROM:-0400
TZOFFSETTO:-0500
TZNAME:EST
DTSTART:20251102T060000
END:STANDARD
BEGIN:DAYLIGHT
TZOFFSETFROM:-0500
TZOFFSETTO:-0400
TZNAME:EDT
DTSTART:20260308T070000
END:DAYLIGHT
BEGIN:STANDARD
TZOFFSETFROM:-0400
TZOFFSETTO:-0500
TZNAME:EST
DTSTART:20261101T060000
END:STANDARD
BEGIN:DAYLIGHT
TZOFFSETFROM:-0500
TZOFFSETTO:-0400
TZNAME:EDT
DTSTART:20270314T070000
END:DAYLIGHT
BEGIN:STANDARD
TZOFFSETFROM:-0400
TZOFFSETTO:-0500
TZNAME:EST
DTSTART:20271107T060000
END:STANDARD
END:VTIMEZONE
BEGIN:VEVENT
DTSTART;TZID=America/New_York:20260308T130000
DTEND;TZID=America/New_York:20260308T150000
DTSTAMP:20260422T191447
CREATED:20260215T130525Z
LAST-MODIFIED:20260215T155655Z
UID:465-1772974800-1772982000@whbhistorical.org
SUMMARY:Winter Lecture Series; Featuring Zach Studenroth
DESCRIPTION:Zach Studenroth discusses his new book\, Historic Schoolhouses of Long Island\, from the pre-Revolutionary period to the mid-19th century.
URL:https://whbhistorical.org/event/winter-lecture-series-featuring-zach-studenroth/
LOCATION:The Westhampton Free Library\, 7 Library Ave\, Westhampton Beach\, 11978\, United States
ORGANIZER;CN="The Greater Westhampton Historical Museum":MAILTO:office@whbhistorical.org
END:VEVENT
END:VCALENDAR