BEGIN:VCALENDAR
VERSION:2.0
PRODID:-//The Greater Westhampton Historical Museum - ECPv6.15.20//NONSGML v1.0//EN
CALSCALE:GREGORIAN
METHOD:PUBLISH
X-ORIGINAL-URL:https://whbhistorical.org
X-WR-CALDESC:Events for The Greater Westhampton Historical Museum
REFRESH-INTERVAL;VALUE=DURATION:PT1H
X-Robots-Tag:noindex
X-PUBLISHED-TTL:PT1H
BEGIN:VTIMEZONE
TZID:America/New_York
BEGIN:DAYLIGHT
TZOFFSETFROM:-0500
TZOFFSETTO:-0400
TZNAME:EDT
DTSTART:20250309T070000
END:DAYLIGHT
BEGIN:STANDARD
TZOFFSETFROM:-0400
TZOFFSETTO:-0500
TZNAME:EST
DTSTART:20251102T060000
END:STANDARD
BEGIN:DAYLIGHT
TZOFFSETFROM:-0500
TZOFFSETTO:-0400
TZNAME:EDT
DTSTART:20260308T070000
END:DAYLIGHT
BEGIN:STANDARD
TZOFFSETFROM:-0400
TZOFFSETTO:-0500
TZNAME:EST
DTSTART:20261101T060000
END:STANDARD
BEGIN:DAYLIGHT
TZOFFSETFROM:-0500
TZOFFSETTO:-0400
TZNAME:EDT
DTSTART:20270314T070000
END:DAYLIGHT
BEGIN:STANDARD
TZOFFSETFROM:-0400
TZOFFSETTO:-0500
TZNAME:EST
DTSTART:20271107T060000
END:STANDARD
END:VTIMEZONE
BEGIN:VEVENT
DTSTART;TZID=America/New_York:20260315T130000
DTEND;TZID=America/New_York:20260315T150000
DTSTAMP:20260422T192400
CREATED:20260215T130413Z
LAST-MODIFIED:20260215T155550Z
UID:463-1773579600-1773586800@whbhistorical.org
SUMMARY:Winter Lecture Series; Featuring Sarah Kautz & Steve Gould
DESCRIPTION:Executive Director Sarah Kautz and Curator Steve Gould cover the British occupation of Southampton during the Revolutionary War\, and the revisiting of the Southampton Historical Museum’s “Southampton Under Seige” Exhibit.
URL:https://whbhistorical.org/event/winter-lecture-series-featuring-sarah-kautz-steve-gould/
LOCATION:The Westhampton Free Library\, 7 Library Ave\, Westhampton Beach\, 11978\, United States
ORGANIZER;CN="The Greater Westhampton Historical Museum":MAILTO:office@whbhistorical.org
END:VEVENT
END:VCALENDAR