BEGIN:VCALENDAR
VERSION:2.0
PRODID:-//The Greater Westhampton Historical Museum - ECPv6.15.20//NONSGML v1.0//EN
CALSCALE:GREGORIAN
METHOD:PUBLISH
X-ORIGINAL-URL:https://whbhistorical.org
X-WR-CALDESC:Events for The Greater Westhampton Historical Museum
REFRESH-INTERVAL;VALUE=DURATION:PT1H
X-Robots-Tag:noindex
X-PUBLISHED-TTL:PT1H
BEGIN:VTIMEZONE
TZID:America/New_York
BEGIN:DAYLIGHT
TZOFFSETFROM:-0500
TZOFFSETTO:-0400
TZNAME:EDT
DTSTART:20250309T070000
END:DAYLIGHT
BEGIN:STANDARD
TZOFFSETFROM:-0400
TZOFFSETTO:-0500
TZNAME:EST
DTSTART:20251102T060000
END:STANDARD
BEGIN:DAYLIGHT
TZOFFSETFROM:-0500
TZOFFSETTO:-0400
TZNAME:EDT
DTSTART:20260308T070000
END:DAYLIGHT
BEGIN:STANDARD
TZOFFSETFROM:-0400
TZOFFSETTO:-0500
TZNAME:EST
DTSTART:20261101T060000
END:STANDARD
BEGIN:DAYLIGHT
TZOFFSETFROM:-0500
TZOFFSETTO:-0400
TZNAME:EDT
DTSTART:20270314T070000
END:DAYLIGHT
BEGIN:STANDARD
TZOFFSETFROM:-0400
TZOFFSETTO:-0500
TZNAME:EST
DTSTART:20271107T060000
END:STANDARD
END:VTIMEZONE
BEGIN:VEVENT
DTSTART;TZID=America/New_York:20260317T000000
DTEND;TZID=America/New_York:20260317T235959
DTSTAMP:20260422T192711
CREATED:20260215T130716Z
LAST-MODIFIED:20260215T130716Z
UID:467-1773705600-1773791999@whbhistorical.org
SUMMARY:Saint Patrick’s Day Parade
DESCRIPTION:The Museum will be participating once again in the Westhampton Beach St. Patrick’s Day Parade\, continuing our long-standing tradition in this community celebration.
URL:https://whbhistorical.org/event/saint-patricks-day-parade/
END:VEVENT
END:VCALENDAR